BEGIN:VCALENDAR
VERSION:2.0
PRODID:icalendar-ruby
CALSCALE:GREGORIAN
METHOD:PUBLISH
BEGIN:VEVENT
DTSTAMP:20260420T033505Z
UID:307-2847778@nanaimoalliance.com
DTSTART:20260425T170000Z
DTEND:20260425T190000Z
CLASS:PUBLIC
CREATED:20260419T141407
DESCRIPTION:Ladies\, you are invited to join us next Saturday morning! Mari
 e Toews from Victoria will be coming to tell her story. She and her husban
 d learned during her pregnancy that their daughter would not live long aft
 er birth. She will share their journey\, the joy they have found\, and why
  they chose to carry the baby to full term. Their daughter lived for one m
 onth. She talks about the importance of life\, regardless of how long or s
 hort it may be.\nAt this time of year\, we also support Crossroads Pregnan
 cy Center\, and we will share about their work. Bring a friend! We look fo
 rward to seeing you Saturday.
LAST-MODIFIED:20260419T141407
LOCATION:Nanaimo Alliance Church
SUMMARY:Women's Connection: Spring Coffee
URL;VALUE=URI:https://www.nanaimoalliance.com/events/womens-connection-spri
 ng-coffee--307/2026-04-25
ATTACH;FILENAME=womenSpring.jpg;FMTTYPE=image/jpeg:https://dq5pwpg1q8ru0.cl
 oudfront.net/2026/04/19/21/14/06/2dd0329e-6b42-43bd-a251-4b9fecac5404/wome
 nSpring.jpg
END:VEVENT
END:VCALENDAR
